BEGIN:VCALENDAR
VERSION:2.0
PRODID:-//ICS Generator//NONSGML ICS Generator//DE
BEGIN:VEVENT
UID:1773650759982-xg8ebg2?@ics-generator.de
DTSTAMP:20260316T084559Z
DTSTART:20260918T000500
DTEND:20260920T235500
SUMMARY:Bacharach Retreat
LOCATION:Burg Stahleck\, Bacharach\, 55422
URL:https://www.anonieme-overeters.nl/evenementen%20agenda/bacharach-retreat/
BEGIN:VALARM
ACTION:DISPLAY
TRIGGER:-PT30M
DESCRIPTION:Reminder
END:VALARM
ATTACH:https://www.overeatersanonymous.de/wp-content/uploads/2026/03/Bacharach-Save-the-Date-flyer-2026-pdf.jpg
END:VEVENT
END:VCALENDAR
