BEGIN:VCALENDAR
VERSION:2.0
PRODID:-//ICS Generator//NONSGML ICS Generator//DE
BEGIN:VEVENT
UID:1775575843114-83d9mfq?@ics-generator.de
DTSTAMP:20260407T153043Z
DTSTART;VALUE=DATE:20270107
DTEND;VALUE=DATE:20270111
SUMMARY:2027  Inventurwochenende-Retreat im Kloster Bad Wimpfen
DESCRIPTION:Buchung:\nBitte Zimmer selbst im Kloster buchen!\nAktuelle Klosterinfos unter: https://www.kloster-bad-wimpfen.de/\nDie Anreise am 7. oder 8. Jan liegt in eurer Entscheidung.\nTelefon 07063-9704 0\; E-Mail: kloster.badwimpfen@malteser.org\nDann meldet eure Teilnahme per Mail an Walter:\noa-walter@gmx.de
LOCATION:Kloster Bad Wimpfen
BEGIN:VALARM
ACTION:DISPLAY
TRIGGER:-PT1440M
DESCRIPTION:Reminder
END:VALARM
ATTACH:https://www.overeatersanonymous.de/wp-content/uploads/2026/04/Bad-Wimpfen-2027.pdf
END:VEVENT
END:VCALENDAR
